BEGIN:VCALENDAR
VERSION:2.0
PRODID:icalendar-ruby
CALSCALE:GREGORIAN
METHOD:PUBLISH
BEGIN:VEVENT
DTSTAMP:20260421T155128Z
UID:15-811450@tbccrane.com
DTSTART:20261029T000000Z
DTEND:20261029T010000Z
CLASS:PUBLIC
CREATED:20260421T092611
DESCRIPTION:TBC Explorers (4 yrs. to 5th Grade)
LAST-MODIFIED:20260421T092611
LOCATION:
SUMMARY:TBC Explorers (4 yrs. to 5th Grade)
URL;VALUE=URI:https://tbccrane.com/events/tbc-explorers-4-yrs-to-5th-grade/
 2026-10-28
END:VEVENT
END:VCALENDAR
