BEGIN:VCALENDAR
VERSION:2.0
PRODID:icalendar-ruby
CALSCALE:GREGORIAN
METHOD:PUBLISH
BEGIN:VEVENT
DTSTAMP:20260421T015733Z
UID:15-810140@tbccrane.com
DTSTART:20260903T000000Z
DTEND:20260903T010000Z
CLASS:PUBLIC
CREATED:20260420T194400
DESCRIPTION:TBC Explorers (4 yrs. to 5th Grade)
LAST-MODIFIED:20260420T194400
LOCATION:
SUMMARY:TBC Explorers (4 yrs. to 5th Grade)
URL;VALUE=URI:https://tbccrane.com/events/tbc-explorers-4-yrs-to-5th-grade/
 2026-09-02
END:VEVENT
END:VCALENDAR
