BEGIN:VCALENDAR
VERSION:2.0
PRODID:icalendar-ruby
CALSCALE:GREGORIAN
METHOD:PUBLISH
BEGIN:VEVENT
DTSTAMP:20260421T001558Z
UID:15-809488@tbccrane.com
DTSTART:20260827T000000Z
DTEND:20260827T010000Z
CLASS:PUBLIC
CREATED:20260420T170908
DESCRIPTION:TBC Explorers (4 yrs. to 5th Grade)
LAST-MODIFIED:20260420T170908
LOCATION:
SUMMARY:TBC Explorers (4 yrs. to 5th Grade)
URL;VALUE=URI:https://tbccrane.com/events/tbc-explorers-4-yrs-to-5th-grade/
 2026-08-26
END:VEVENT
END:VCALENDAR
