BEGIN:VCALENDAR
VERSION:2.0
PRODID:icalendar-ruby
CALSCALE:GREGORIAN
METHOD:PUBLISH
BEGIN:VEVENT
DTSTAMP:20260423T103203Z
UID:44-818216@tbccrane.com
DTSTART:20261101T153000Z
DTEND:20261101T163000Z
CLASS:PUBLIC
CREATED:20260422T213410
DESCRIPTION:Connections (Sunday School)
LAST-MODIFIED:20260422T213410
LOCATION:
SUMMARY:Connections (Sunday School)
URL;VALUE=URI:https://tbccrane.com/events/connections-sunday-school/2026-11
 -01
END:VEVENT
END:VCALENDAR
