BEGIN:VCALENDAR
VERSION:2.0
PRODID:icalendar-ruby
CALSCALE:GREGORIAN
METHOD:PUBLISH
BEGIN:VEVENT
DTSTAMP:20260421T072617Z
UID:44-810399@tbccrane.com
DTSTART:20261018T143000Z
DTEND:20261018T153000Z
CLASS:PUBLIC
CREATED:20260420T194400
DESCRIPTION:Connections (Sunday School)
LAST-MODIFIED:20260420T194400
LOCATION:
SUMMARY:Connections (Sunday School)
URL;VALUE=URI:https://tbccrane.com/events/connections-sunday-school/2026-10
 -18
END:VEVENT
END:VCALENDAR
