BEGIN:VCALENDAR
VERSION:2.0
PRODID:icalendar-ruby
CALSCALE:GREGORIAN
METHOD:PUBLISH
BEGIN:VEVENT
DTSTAMP:20260421T035136Z
UID:44-810397@tbccrane.com
DTSTART:20261004T143000Z
DTEND:20261004T153000Z
CLASS:PUBLIC
CREATED:20260420T194400
DESCRIPTION:Connections (Sunday School)
LAST-MODIFIED:20260420T194400
LOCATION:
SUMMARY:Connections (Sunday School)
URL;VALUE=URI:https://tbccrane.com/events/connections-sunday-school/2026-10
 -04
END:VEVENT
END:VCALENDAR
