BEGIN:VCALENDAR
VERSION:2.0
PRODID:icalendar-ruby
CALSCALE:GREGORIAN
METHOD:PUBLISH
BEGIN:VEVENT
DTSTAMP:20260421T002706Z
UID:44-809744@tbccrane.com
DTSTART:20260920T143000Z
DTEND:20260920T153000Z
CLASS:PUBLIC
CREATED:20260420T170908
DESCRIPTION:Connections (Sunday School)
LAST-MODIFIED:20260420T170908
LOCATION:
SUMMARY:Connections (Sunday School)
URL;VALUE=URI:https://tbccrane.com/events/connections-sunday-school/2026-09
 -20
END:VEVENT
END:VCALENDAR
