BEGIN:VCALENDAR
VERSION:2.0
PRODID:icalendar-ruby
CALSCALE:GREGORIAN
METHOD:PUBLISH
BEGIN:VEVENT
DTSTAMP:20260420T123911Z
UID:44-807132@tbccrane.com
DTSTART:20260726T143000Z
DTEND:20260726T153000Z
CLASS:PUBLIC
CREATED:20260420T064909
DESCRIPTION:Connections (Sunday School)
LAST-MODIFIED:20260420T064909
LOCATION:
SUMMARY:Connections (Sunday School)
URL;VALUE=URI:https://tbccrane.com/events/connections-sunday-school/2026-07
 -26
END:VEVENT
END:VCALENDAR
