BEGIN:VCALENDAR
VERSION:2.0
PRODID:icalendar-ruby
CALSCALE:GREGORIAN
METHOD:PUBLISH
BEGIN:VEVENT
DTSTAMP:20260420T105554Z
UID:44-806480@tbccrane.com
DTSTART:20260719T143000Z
DTEND:20260719T153000Z
CLASS:PUBLIC
CREATED:20260420T015958
DESCRIPTION:Connections (Sunday School)
LAST-MODIFIED:20260420T015958
LOCATION:
SUMMARY:Connections (Sunday School)
URL;VALUE=URI:https://tbccrane.com/events/connections-sunday-school/2026-07
 -19
END:VEVENT
END:VCALENDAR
