BEGIN:VCALENDAR
VERSION:2.0
PRODID:icalendar-ruby
CALSCALE:GREGORIAN
METHOD:PUBLISH
BEGIN:VEVENT
DTSTAMP:20260420T040716Z
UID:44-805825@tbccrane.com
DTSTART:20260621T143000Z
DTEND:20260621T153000Z
CLASS:PUBLIC
CREATED:20260419T222257
DESCRIPTION:Connections (Sunday School)
LAST-MODIFIED:20260419T222257
LOCATION:
SUMMARY:Connections (Sunday School)
URL;VALUE=URI:https://tbccrane.com/events/connections-sunday-school/2026-06
 -21
END:VEVENT
END:VCALENDAR
