BEGIN:VCALENDAR
VERSION:2.0
PRODID:icalendar-ruby
CALSCALE:GREGORIAN
METHOD:PUBLISH
BEGIN:VEVENT
DTSTAMP:20260420T023707Z
UID:44-805173@tbccrane.com
DTSTART:20260614T143000Z
DTEND:20260614T153000Z
CLASS:PUBLIC
CREATED:20260419T184452
DESCRIPTION:Connections (Sunday School)
LAST-MODIFIED:20260419T184452
LOCATION:
SUMMARY:Connections (Sunday School)
URL;VALUE=URI:https://tbccrane.com/events/connections-sunday-school/2026-06
 -14
END:VEVENT
END:VCALENDAR
